
BEGIN:VCALENDAR
VERSION:2.0
PRODID:-//MarkedsPartner AS//Umbraco CMS//NO
TIMEZONE-ID:Europe/Oslo
X-WR-TIMEZONE:Europe/Oslo


BEGIN:VEVENT
UID:0ec0b2f7b34a4c0eae1ff114088bad29
URL:https://stavangernaering-2023.azurewebsites.net/en/events/archive/job-search-and-career-221124/
ORGANIZER;CN=Ola Normann:MAILTO:ola.normann@markedspartner.no
DTSTAMP:20241122T083000Z
DTSTART:20241122T083000Z
DTEND:20241122T103000Z
LAST-MODIFIED:20241122T115248Z
SUMMARY:Job search and career: Karrieresenter Rogaland
DESCRIPTION:We invite you to learn about Karrieretorget and how they can help guiding  you through a career session finding new opportunites.
X-ALT-DESC:We invite you to learn about Karrieretorget and how they can help guiding  you through a career session finding new opportunites.
LOCATION:Rosenkildehuset 
END:VEVENT


END:VCALENDAR



