
BEGIN:VCALENDAR
VERSION:2.0
PRODID:-//MarkedsPartner AS//Umbraco CMS//NO
TIMEZONE-ID:Europe/Oslo
X-WR-TIMEZONE:Europe/Oslo


BEGIN:VEVENT
UID:4b6974c556ad488ea75c741abea8b52d
URL:https://stavangernaering-2023.azurewebsites.net/en/events/archive/job-search-and-career-181024/
ORGANIZER;CN=Ola Normann:MAILTO:ola.normann@markedspartner.no
DTSTAMP:20241018T073000Z
DTSTART:20241018T073000Z
DTEND:20241018T090000Z
LAST-MODIFIED:20241018T113957Z
SUMMARY:Job search and career: Meet Frænd
DESCRIPTION:What is Frænd and how can they play a key role in your way into the job market in Stavanger?
X-ALT-DESC:What is Fr&#230;nd and how can they play a key role in your way into the job market in Stavanger?
LOCATION:Fr&#230;nd, Vaisenhusgata 5 
END:VEVENT


END:VCALENDAR



