
BEGIN:VCALENDAR
VERSION:2.0
PRODID:-//MarkedsPartner AS//Umbraco CMS//NO
TIMEZONE-ID:Europe/Oslo
X-WR-TIMEZONE:Europe/Oslo


BEGIN:VEVENT
UID:2070d903219542d08c076ec1d5e6c3fe
URL:https://stavangernaering-2023.azurewebsites.net/en/events/archive/job-search-and-career-030524/
ORGANIZER;CN=Ola Normann:MAILTO:ola.normann@markedspartner.no
DTSTAMP:20240503T073000Z
DTSTART:20240503T073000Z
DTEND:20240503T090000Z
LAST-MODIFIED:20240503T103152Z
SUMMARY:Job search and career: Labour Law
DESCRIPTION:Come learn the basics of the Norwegian Labour Law with Morten Sandanger from LO Rogaland.
X-ALT-DESC:Come learn the basics of the Norwegian Labour Law with Morten Sandanger from LO Rogaland.
LOCATION:Rosenkildehuset, Strandkaien 6, SVG
END:VEVENT


END:VCALENDAR



