
BEGIN:VCALENDAR
VERSION:2.0
PRODID:-//MarkedsPartner AS//Umbraco CMS//NO
TIMEZONE-ID:Europe/Oslo
X-WR-TIMEZONE:Europe/Oslo


BEGIN:VEVENT
UID:563739d57e704571b73b8ad310291701
URL:https://stavangernaering-2023.azurewebsites.net/en/events/archive/job-preparations-and-interview-technique_-230921/
ORGANIZER;CN=Ola Normann:MAILTO:ola.normann@markedspartner.no
DTSTAMP:20210923T103000Z
DTSTART:20210923T103000Z
DTEND:20210923T123000Z
LAST-MODIFIED:20210923T140246Z
SUMMARY:Job preparations and interview techniques.
DESCRIPTION:The most effective job search/interview starts with thoughtful preparation.
X-ALT-DESC:The most effective job search/interview starts with thoughtful preparation.
LOCATION:Rosenkildehuset
END:VEVENT


END:VCALENDAR



