
BEGIN:VCALENDAR
VERSION:2.0
PRODID:-//MarkedsPartner AS//Umbraco CMS//NO
TIMEZONE-ID:Europe/Oslo
X-WR-TIMEZONE:Europe/Oslo


BEGIN:VEVENT
UID:e1892475c2744dc49d47356d4ae41de7
URL:https://stavangernaering-2023.azurewebsites.net/en/events/archive/iss/
ORGANIZER;CN=Ola Normann:MAILTO:ola.normann@markedspartner.no
DTSTAMP:20220127T170000Z
DTSTART:20220127T170000Z
DTEND:20220127T183000Z
LAST-MODIFIED:20220128T133550Z
SUMMARY:Gaming and Social Media
DESCRIPTION:The International School of Stavanger (ISS) invite you to a virtual workshop focusing on children and their gaming and social media habits.
X-ALT-DESC:The International School of Stavanger (ISS) invite you to a virtual workshop focusing on children and their gaming and social media habits.
LOCATION:Online
END:VEVENT


END:VCALENDAR



