
BEGIN:VCALENDAR
VERSION:2.0
PRODID:-//MarkedsPartner AS//Umbraco CMS//NO
TIMEZONE-ID:Europe/Oslo
X-WR-TIMEZONE:Europe/Oslo


BEGIN:VEVENT
UID:68abfb08cf214e4ebff0934820b8dbf2
URL:https://stavangernaering-2023.azurewebsites.net/en/events/archive/introduction-to-skiing-in-norway/
ORGANIZER;CN=Ola Normann:MAILTO:ola.normann@markedspartner.no
DTSTAMP:20191125T173000Z
DTSTART:20191125T173000Z
DTEND:20191125T200000Z
LAST-MODIFIED:20200612T113327Z
SUMMARY: Introduction to skiing in Norway
DESCRIPTION:Learn all you need to know about skiing.
X-ALT-DESC:Learn all you need to know about skiing.
LOCATION:Rosenkildehuset
END:VEVENT


END:VCALENDAR



