
BEGIN:VCALENDAR
VERSION:2.0
PRODID:-//MarkedsPartner AS//Umbraco CMS//NO
TIMEZONE-ID:Europe/Oslo
X-WR-TIMEZONE:Europe/Oslo


BEGIN:VEVENT
UID:c778bb45245843739a9aecd949a98bdd
URL:https://stavangernaering-2023.azurewebsites.net/en/events/archive/introduction-to-kayaking_june-2023/
ORGANIZER;CN=Ola Normann:MAILTO:ola.normann@markedspartner.no
DTSTAMP:20230620T153000Z
DTSTART:20230620T153000Z
DTEND:20230620T183000Z
LAST-MODIFIED:20230621T130814Z
SUMMARY:Try out kayaking 
DESCRIPTION:Kayaking it's a peaceful and fun activity. Together with Stavanger Kayak Club we invite you to an introduction to kayaking.
X-ALT-DESC:Kayaking it&#39;s a peaceful and fun activity. Together with Stavanger Kayak Club we invite you to an introduction to kayaking.
LOCATION:Stavanger Kajakklubb at Hundv&#229;g
END:VEVENT


END:VCALENDAR



