
BEGIN:VCALENDAR
VERSION:2.0
PRODID:-//MarkedsPartner AS//Umbraco CMS//NO
TIMEZONE-ID:Europe/Oslo
X-WR-TIMEZONE:Europe/Oslo


BEGIN:VEVENT
UID:3294a3fbfb55425e9f26022f8122e395
URL:https://stavangernaering-2023.azurewebsites.net/en/events/archive/introduction-to-kayaking_june-2022/
ORGANIZER;CN=Ola Normann:MAILTO:ola.normann@markedspartner.no
DTSTAMP:20220613T160000Z
DTSTART:20220613T160000Z
DTEND:20220613T190000Z
LAST-MODIFIED:20220615T061759Z
SUMMARY:Try out kayaking 
DESCRIPTION:Kayaking it's a peaceful and fun activity. Together with Stavanger Kayak Club we invite you to an introduction to kayaking.
X-ALT-DESC:Kayaking it&#39;s a peaceful and fun activity. Together with Stavanger Kayak Club we invite you to an introduction to kayaking.
LOCATION:Stavanger Kajakklubb, Kisteneset 15, 4085 Stavanger
END:VEVENT


END:VCALENDAR



