
BEGIN:VCALENDAR
VERSION:2.0
PRODID:-//MarkedsPartner AS//Umbraco CMS//NO
TIMEZONE-ID:Europe/Oslo
X-WR-TIMEZONE:Europe/Oslo


BEGIN:VEVENT
UID:6b67c3d01eee415184322fdc470ba35e
URL:https://stavangernaering-2023.azurewebsites.net/en/events/archive/intercultural-awareness-at-soelvberget-160323/
ORGANIZER;CN=Ola Normann:MAILTO:ola.normann@markedspartner.no
DTSTAMP:20230316T173000Z
DTSTART:20230316T173000Z
DTEND:20230316T190000Z
LAST-MODIFIED:20230321T062955Z
SUMMARY:Norwegian culture workshop at Sølvberget 
DESCRIPTION:Three evenings of presentations and workshops designed to build intercultural awareness and share tools to adjust to the Norwegian culture.
X-ALT-DESC:Three evenings of presentations and workshops designed to build intercultural awareness and share tools to adjust to the Norwegian culture.
LOCATION: S&#248;lvberget bibliotek og kulturhus, 3.etasje, klasserommet
END:VEVENT


END:VCALENDAR



