
BEGIN:VCALENDAR
VERSION:2.0
PRODID:-//MarkedsPartner AS//Umbraco CMS//NO
TIMEZONE-ID:Europe/Oslo
X-WR-TIMEZONE:Europe/Oslo


BEGIN:VEVENT
UID:fcd5e3d545b2458bbaaebfc8d9d77c34
URL:https://stavangernaering-2023.azurewebsites.net/en/events/archive/ice-fishing_140221/
ORGANIZER;CN=Ola Normann:MAILTO:ola.normann@markedspartner.no
DTSTAMP:20210214T090000Z
DTSTART:20210214T090000Z
DTEND:20210214T160000Z
LAST-MODIFIED:20210216T113845Z
SUMMARY:Fishing on the ice
DESCRIPTION:Ice fishing is a wonderful way to relax and and enjoy winter first hand. One of the best parts about ice fishing is the ability to fish from the center of the lake without a boat.
X-ALT-DESC:Ice fishing is a wonderful way to relax and and enjoy winter first hand. One of the best parts about ice fishing is the ability to fish from the center of the lake without a boat.
LOCATION:R&#248;ysland Gaard, Buevegen 1990, 4389 Vikes&#229;
END:VEVENT


END:VCALENDAR



