
BEGIN:VCALENDAR
VERSION:2.0
PRODID:-//MarkedsPartner AS//Umbraco CMS//NO
TIMEZONE-ID:Europe/Oslo
X-WR-TIMEZONE:Europe/Oslo


BEGIN:VEVENT
UID:b7eaf7bdb10d48b99ad7c72563e3f5bd
URL:https://stavangernaering-2023.azurewebsites.net/en/events/archive/hydrogen-stavanger_270525/
ORGANIZER;CN=Ola Normann:MAILTO:ola.normann@markedspartner.no
DTSTAMP:20250527T170000Z
DTSTART:20250527T170000Z
DTEND:20250527T210000Z
LAST-MODIFIED:20250602T061136Z
SUMMARY:Hydrogen Stammtisch Stavanger 
DESCRIPTION:Hydrogen friends - let's meet for a friendly get-together!
X-ALT-DESC:Hydrogen friends - let&#39;s meet for a friendly get-together!
LOCATION:Lervig Local, Alexander Kiellands gate 2A, 4009 Stavanger.
END:VEVENT


END:VCALENDAR



