
BEGIN:VCALENDAR
VERSION:2.0
PRODID:-//MarkedsPartner AS//Umbraco CMS//NO
TIMEZONE-ID:Europe/Oslo
X-WR-TIMEZONE:Europe/Oslo


BEGIN:VEVENT
UID:ffe4228009a54b8d9f605af2efd61fca
URL:https://stavangernaering-2023.azurewebsites.net/en/events/archive/hydrogen-stavanger_270325/
ORGANIZER;CN=Ola Normann:MAILTO:ola.normann@markedspartner.no
DTSTAMP:20250327T180000Z
DTSTART:20250327T180000Z
DTEND:20250327T220000Z
LAST-MODIFIED:20250331T060213Z
SUMMARY:Hydrogen Stammtisch Stavanger 
DESCRIPTION:Hydrogen friends - let's meet for a friendly get-together!
X-ALT-DESC:Hydrogen friends - let&#39;s meet for a friendly get-together!
LOCATION:Lervig Local, Alexander Kiellands gate 2A, 4009 Stavanger.
END:VEVENT


END:VCALENDAR



