
BEGIN:VCALENDAR
VERSION:2.0
PRODID:-//MarkedsPartner AS//Umbraco CMS//NO
TIMEZONE-ID:Europe/Oslo
X-WR-TIMEZONE:Europe/Oslo


BEGIN:VEVENT
UID:289213589b774df28e487af07b096b62
URL:https://stavangernaering-2023.azurewebsites.net/en/events/archive/how-to-have-a-happy-life-in-norway/
ORGANIZER;CN=Ola Normann:MAILTO:ola.normann@markedspartner.no
DTSTAMP:20200204T173000Z
DTSTART:20200204T173000Z
DTEND:20200204T200000Z
LAST-MODIFIED:20230329T140320Z
SUMMARY:How to have a happy life in Norway
DESCRIPTION:Top tips for a successful relocation.
X-ALT-DESC:Top tips for a successful relocation.
LOCATION:Rosenkildehuset
END:VEVENT


END:VCALENDAR



