
BEGIN:VCALENDAR
VERSION:2.0
PRODID:-//MarkedsPartner AS//Umbraco CMS//NO
TIMEZONE-ID:Europe/Oslo
X-WR-TIMEZONE:Europe/Oslo


BEGIN:VEVENT
UID:a3fe4c160f5f40758bd4bcd38b26d0d1
URL:https://stavangernaering-2023.azurewebsites.net/en/events/archive/how-to-create-a-business/
ORGANIZER;CN=Ola Normann:MAILTO:ola.normann@markedspartner.no
DTSTAMP:20191112T173000Z
DTSTART:20191112T173000Z
DTEND:20191112T210000Z
LAST-MODIFIED:20200612T113327Z
SUMMARY:How to create a business
DESCRIPTION:The Stavanger-region has a vibrant start-up environment.  Our region is in a fortunate position, a highly skilled workforce, natural resources, and an international business mindset.
X-ALT-DESC:The Stavanger-region has a vibrant start-up environment.  Our region is in a fortunate position, a highly skilled workforce, natural resources, and an international business mindset.
LOCATION:Rosenkildehuset
END:VEVENT


END:VCALENDAR



