
BEGIN:VCALENDAR
VERSION:2.0
PRODID:-//MarkedsPartner AS//Umbraco CMS//NO
TIMEZONE-ID:Europe/Oslo
X-WR-TIMEZONE:Europe/Oslo


BEGIN:VEVENT
UID:fcd8e05351e94e0c80ceec6690c41dd3
URL:https://stavangernaering-2023.azurewebsites.net/en/events/archive/housing_october2023/
ORGANIZER;CN=Ola Normann:MAILTO:ola.normann@markedspartner.no
DTSTAMP:20231005T163000Z
DTSTART:20231005T163000Z
DTEND:20231005T190000Z
LAST-MODIFIED:20231005T191007Z
SUMMARY:Do you plan to buy an apartment or house?
DESCRIPTION:Buying an apartment or house is a serious investment. Welcome to join us for a very practical evening with information about viewing, bidding, buying and maintaining. Do it correctly from the start!
X-ALT-DESC:Buying an apartment or house is a serious investment. Welcome to join us for a very practical evening with information about viewing, bidding, buying and maintaining. Do it correctly from the start!
LOCATION:Rosenkildehuset, Strandkaien 6, 4005 Stavanger
END:VEVENT


END:VCALENDAR



