
BEGIN:VCALENDAR
VERSION:2.0
PRODID:-//MarkedsPartner AS//Umbraco CMS//NO
TIMEZONE-ID:Europe/Oslo
X-WR-TIMEZONE:Europe/Oslo


BEGIN:VEVENT
UID:e88de4e69da54e1f83afa808e2cf6543
URL:https://stavangernaering-2023.azurewebsites.net/en/events/archive/housing_march2024/
ORGANIZER;CN=Ola Normann:MAILTO:ola.normann@markedspartner.no
DTSTAMP:20240313T173000Z
DTSTART:20240313T173000Z
DTEND:20240313T200000Z
LAST-MODIFIED:20240313T204126Z
SUMMARY:Do you plan to rent or buy an apartment or house?
DESCRIPTION:Renting or buying an apartment or house is a serious investment. Welcome to join us for a very practical evening with information about  searching, viewing, bidding, buying and maintaining. Do it correctly from the start!
X-ALT-DESC:Renting or buying an apartment or house is a serious investment. Welcome to join us for a very practical evening with information about  searching, viewing, bidding, buying and maintaining. Do it correctly from the start!
LOCATION:Rosenkildehuset, Strandkaien 6, 4005 Stavanger
END:VEVENT


END:VCALENDAR



