
BEGIN:VCALENDAR
VERSION:2.0
PRODID:-//MarkedsPartner AS//Umbraco CMS//NO
TIMEZONE-ID:Europe/Oslo
X-WR-TIMEZONE:Europe/Oslo


BEGIN:VEVENT
UID:7ff6f96d92fe4fc99a5fe63a34597715
URL:https://stavangernaering-2023.azurewebsites.net/en/events/archive/housing_mai25/
ORGANIZER;CN=Ola Normann:MAILTO:ola.normann@markedspartner.no
DTSTAMP:20250519T163000Z
DTSTART:20250519T163000Z
DTEND:20250519T190000Z
LAST-MODIFIED:20250520T065523Z
SUMMARY:The Norwegian housing market
DESCRIPTION:Welcome to an informative session on how you enter the Norwegian housing market as a newcomer.
X-ALT-DESC:Welcome to an informative session on how you enter the Norwegian housing market as a newcomer.
LOCATION:Rosenkildehuset, Strandkaien 6, 4005 Stavanger
END:VEVENT


END:VCALENDAR



