
BEGIN:VCALENDAR
VERSION:2.0
PRODID:-//MarkedsPartner AS//Umbraco CMS//NO
TIMEZONE-ID:Europe/Oslo
X-WR-TIMEZONE:Europe/Oslo


BEGIN:VEVENT
UID:60dc917c35b0463aa01524da2b5e2088
URL:https://stavangernaering-2023.azurewebsites.net/en/events/archive/housing_feb2023/
ORGANIZER;CN=Ola Normann:MAILTO:ola.normann@markedspartner.no
DTSTAMP:20230221T173000Z
DTSTART:20230221T173000Z
DTEND:20230221T200000Z
LAST-MODIFIED:20230221T203817Z
SUMMARY:Do you plan to buy an apartment or house?
DESCRIPTION:Buying an apartment or house is a serious investment. Welcome to join us for a very practical evening with information about viewing, bidding, buying and maintaining. Do it correctly from the start!
X-ALT-DESC:Buying an apartment or house is a serious investment. Welcome to join us for a very practical evening with information about viewing, bidding, buying and maintaining. Do it correctly from the start!
LOCATION:Rosenkildehuset, Strandkaien 6, 4005 Stavanger
END:VEVENT


END:VCALENDAR



