
BEGIN:VCALENDAR
VERSION:2.0
PRODID:-//MarkedsPartner AS//Umbraco CMS//NO
TIMEZONE-ID:Europe/Oslo
X-WR-TIMEZONE:Europe/Oslo


BEGIN:VEVENT
UID:7ed45a0eb3a54e898453f18fd152775c
URL:https://stavangernaering-2023.azurewebsites.net/en/events/archive/housing-in-norway_170920/
ORGANIZER;CN=Ola Normann:MAILTO:ola.normann@markedspartner.no
DTSTAMP:20200917T160000Z
DTSTART:20200917T160000Z
DTEND:20200917T173000Z
LAST-MODIFIED:20200922T093827Z
SUMMARY:Housing in Norway
DESCRIPTION:At this meeting you will receive some good advice on financing and how to maneuver in the local housing market.
X-ALT-DESC:At this meeting you will receive some good advice on financing and how to maneuver in the local housing market.
LOCATION:Rosenkildehuset
END:VEVENT


END:VCALENDAR



