
BEGIN:VCALENDAR
VERSION:2.0
PRODID:-//MarkedsPartner AS//Umbraco CMS//NO
TIMEZONE-ID:Europe/Oslo
X-WR-TIMEZONE:Europe/Oslo


BEGIN:VEVENT
UID:432a4db7675e4cd3a80d70e6673c7e12
URL:https://stavangernaering-2023.azurewebsites.net/en/events/archive/housing-040221/
ORGANIZER;CN=Ola Normann:MAILTO:ola.normann@markedspartner.no
DTSTAMP:20210204T170000Z
DTSTART:20210204T170000Z
DTEND:20210204T183000Z
LAST-MODIFIED:20210216T113745Z
SUMMARY:Housing in Stavanger
DESCRIPTION:WEBINAR: Learn all you need to know about the Norwegian housing market. Status, outlook and financing, with a distinct focus on the Stavanger Region.
X-ALT-DESC:WEBINAR: Learn all you need to know about the Norwegian housing market. Status, outlook and financing, with a distinct focus on the Stavanger Region.
LOCATION:
END:VEVENT


END:VCALENDAR



