
BEGIN:VCALENDAR
VERSION:2.0
PRODID:-//MarkedsPartner AS//Umbraco CMS//NO
TIMEZONE-ID:Europe/Oslo
X-WR-TIMEZONE:Europe/Oslo


BEGIN:VEVENT
UID:8766594a95fa422e8d20f524800eca01
URL:https://stavangernaering-2023.azurewebsites.net/en/events/archive/hiking-sandnes_100522/
ORGANIZER;CN=Ola Normann:MAILTO:ola.normann@markedspartner.no
DTSTAMP:20220523T150000Z
DTSTART:20220523T150000Z
DTEND:20220523T190000Z
LAST-MODIFIED:20220524T104348Z
SUMMARY:Hiking from Gramstad
DESCRIPTION:Sandnes has hundreds of popular trails, and this afternoon we invite you to explore some of them. In total about 8- 10 km, slow and steady. Target group is people who enjoy getting outdoors to enjoy the light evenings.
X-ALT-DESC:Sandnes has hundreds of popular trails, and this afternoon we invite you to explore some of them. In total about 8- 10 km, slow and steady. Target group is people who enjoy getting outdoors to enjoy the light evenings.
LOCATION:Dalsnuten Parkering, Fjogstadveien 160, 4329 Sandnes, Norge
END:VEVENT


END:VCALENDAR



