
BEGIN:VCALENDAR
VERSION:2.0
PRODID:-//MarkedsPartner AS//Umbraco CMS//NO
TIMEZONE-ID:Europe/Oslo
X-WR-TIMEZONE:Europe/Oslo


BEGIN:VEVENT
UID:e14f234d310b4045812b85f2dafd3090
URL:https://stavangernaering-2023.azurewebsites.net/en/events/archive/hiking-sandnes_060521/
ORGANIZER;CN=Ola Normann:MAILTO:ola.normann@markedspartner.no
DTSTAMP:20210610T150000Z
DTSTART:20210610T150000Z
DTEND:20210610T190000Z
LAST-MODIFIED:20210614T143905Z
SUMMARY:Hiking from Gramstad
DESCRIPTION:Sandnes has hundreds of popular trails, and this afternoon we invite you to explore some of them. In total about 8- 10 km, slow and steady. Target group is people who enjoy getting outdoors to enjoy the light evenings.
X-ALT-DESC:Sandnes has hundreds of popular trails, and this afternoon we invite you to explore some of them. In total about 8- 10 km, slow and steady. Target group is people who enjoy getting outdoors to enjoy the light evenings.
LOCATION:Dalsnuten Parkering, Fjogstadveien 160, 4329 Sandnes, Norge
END:VEVENT


END:VCALENDAR



