
BEGIN:VCALENDAR
VERSION:2.0
PRODID:-//MarkedsPartner AS//Umbraco CMS//NO
TIMEZONE-ID:Europe/Oslo
X-WR-TIMEZONE:Europe/Oslo


BEGIN:VEVENT
UID:f727e820e8ed4a16b179d26c73753bee
URL:https://stavangernaering-2023.azurewebsites.net/en/events/archive/hiking-sandnes/
ORGANIZER;CN=Ola Normann:MAILTO:ola.normann@markedspartner.no
DTSTAMP:20230412T150000Z
DTSTART:20230412T150000Z
DTEND:20230412T190000Z
LAST-MODIFIED:20230416T173822Z
SUMMARY:Hiking from Gramstad
DESCRIPTION:Sandnes has hundreds of popular trails, and this afternoon we invite you to explore some of them. In total about 8-10 km, slow and steady.
X-ALT-DESC:Sandnes has hundreds of popular trails, and this afternoon we invite you to explore some of them. In total about 8-10 km, slow and steady.
LOCATION:Dalsnuten Parkering, Fjogstadveien 160, 4329 Sandnes, Norge
END:VEVENT


END:VCALENDAR



