
BEGIN:VCALENDAR
VERSION:2.0
PRODID:-//MarkedsPartner AS//Umbraco CMS//NO
TIMEZONE-ID:Europe/Oslo
X-WR-TIMEZONE:Europe/Oslo


BEGIN:VEVENT
UID:9398cb55856443d0a5c368f625d234e1
URL:https://stavangernaering-2023.azurewebsites.net/en/events/archive/hiking-klepp-bryne_nov2022/
ORGANIZER;CN=Ola Normann:MAILTO:ola.normann@markedspartner.no
DTSTAMP:20221106T100000Z
DTSTART:20221106T100000Z
DTEND:20221106T100000Z
LAST-MODIFIED:20221106T195037Z
SUMMARY:Sunday hike along Frøylandsvatnet
DESCRIPTION:Please join us for a Sunday hike at Jæren. We will cross the famous bridge "Midgardsormen" and enjoy the beautiful autumn landscape.
X-ALT-DESC:Please join us for a Sunday hike at J&#230;ren. We will cross the famous bridge &quot;Midgardsormen&quot; and enjoy the beautiful autumn landscape.
LOCATION:Klepp Stasjon to Bryne
END:VEVENT


END:VCALENDAR



