
BEGIN:VCALENDAR
VERSION:2.0
PRODID:-//MarkedsPartner AS//Umbraco CMS//NO
TIMEZONE-ID:Europe/Oslo
X-WR-TIMEZONE:Europe/Oslo


BEGIN:VEVENT
UID:6fe7989a30104fd3a51ffa487a4362d3
URL:https://stavangernaering-2023.azurewebsites.net/en/events/archive/hike-to-kjerag_206021/
ORGANIZER;CN=Ola Normann:MAILTO:ola.normann@markedspartner.no
DTSTAMP:20210620T054500Z
DTSTART:20210620T054500Z
DTEND:20210620T181500Z
LAST-MODIFIED:20210622T084104Z
SUMMARY:Hike to spectacular Kjerag
DESCRIPTION:Attracting thrillseekers from all over the world, the Kjerag Boulder is a famous conundrum located in Lysefjord.
X-ALT-DESC:Attracting thrillseekers from all over the world, the Kjerag Boulder is a famous conundrum located in Lysefjord.
LOCATION:Kjerag
END:VEVENT


END:VCALENDAR



