
BEGIN:VCALENDAR
VERSION:2.0
PRODID:-//MarkedsPartner AS//Umbraco CMS//NO
TIMEZONE-ID:Europe/Oslo
X-WR-TIMEZONE:Europe/Oslo


BEGIN:VEVENT
UID:e4db28fbd8c14b228127f2789a3f4018
URL:https://stavangernaering-2023.azurewebsites.net/en/events/archive/hike-storberget_180421/
ORGANIZER;CN=Ola Normann:MAILTO:ola.normann@markedspartner.no
DTSTAMP:20210515T083000Z
DTSTART:20210515T083000Z
DTEND:20210515T143000Z
LAST-MODIFIED:20210519T074650Z
SUMMARY:Hike to Storaberget
DESCRIPTION:Join us for a hike to the magnificent Storaberget.
X-ALT-DESC:Join us for a hike to the magnificent Storaberget.
LOCATION:Storberget, Sandnes
END:VEVENT


END:VCALENDAR



