
BEGIN:VCALENDAR
VERSION:2.0
PRODID:-//MarkedsPartner AS//Umbraco CMS//NO
TIMEZONE-ID:Europe/Oslo
X-WR-TIMEZONE:Europe/Oslo


BEGIN:VEVENT
UID:5bfe22ea27a0410b8dfd047f2bd405bc
URL:https://stavangernaering-2023.azurewebsites.net/en/events/archive/hike-at-rennesoey_mai25/
ORGANIZER;CN=Ola Normann:MAILTO:ola.normann@markedspartner.no
DTSTAMP:20250511T090000Z
DTSTART:20250511T090000Z
DTEND:20250511T150000Z
LAST-MODIFIED:20250512T085416Z
SUMMARY:Hiking at beautiful Rennesøy
DESCRIPTION:Join us for a breathtaking trip to Rennesøyhodnet.
X-ALT-DESC:Join us for a breathtaking trip to Rennes&#248;yhodnet.
LOCATION:&#216;sthusvik, Rennes&#248;y
END:VEVENT


END:VCALENDAR



