
BEGIN:VCALENDAR
VERSION:2.0
PRODID:-//MarkedsPartner AS//Umbraco CMS//NO
TIMEZONE-ID:Europe/Oslo
X-WR-TIMEZONE:Europe/Oslo


BEGIN:VEVENT
UID:0c981475c523409e976dff60ec5e82b8
URL:https://stavangernaering-2023.azurewebsites.net/en/events/archive/hike-at-rennesoey_april2024-1/
ORGANIZER;CN=Ola Normann:MAILTO:ola.normann@markedspartner.no
DTSTAMP:20240421T090000Z
DTSTART:20240421T090000Z
DTEND:20240421T150000Z
LAST-MODIFIED:20240424T055927Z
SUMMARY:Hiking at beautiful Rennesøy
DESCRIPTION:Ready for a hike to Rennesøyhodnet? The weather looks good for Sunday, and we have to take advantage of the best time of the year- Spring! We can promise a beautiful view and very good company!
X-ALT-DESC:Ready for a hike to Rennes&#248;yhodnet? The weather looks good for Sunday, and we have to take advantage of the best time of the year- Spring! We can promise a beautiful view and very good company!
LOCATION:&#216;sthusvik, Rennes&#248;y
END:VEVENT


END:VCALENDAR



