
BEGIN:VCALENDAR
VERSION:2.0
PRODID:-//MarkedsPartner AS//Umbraco CMS//NO
TIMEZONE-ID:Europe/Oslo
X-WR-TIMEZONE:Europe/Oslo


BEGIN:VEVENT
UID:8395b28a48494a789e332df6738ab470
URL:https://stavangernaering-2023.azurewebsites.net/en/events/archive/hike-at-rennesoey_april-2023/
ORGANIZER;CN=Ola Normann:MAILTO:ola.normann@markedspartner.no
DTSTAMP:20220423T090000Z
DTSTART:20220423T090000Z
DTEND:20220423T150000Z
LAST-MODIFIED:20230327T130627Z
SUMMARY:Hiking at beautiful Rennesøy
DESCRIPTION:Ready for a hike to Pilå or Rennesøyhodnet? Beautiful view and about 6 kilometer.
X-ALT-DESC:Ready for a hike to Pil&#229; or Rennes&#248;yhodnet? Beautiful view and about 6 kilometer.
LOCATION:&#216;sthusvik, Rennes&#248;y
END:VEVENT


END:VCALENDAR



