
BEGIN:VCALENDAR
VERSION:2.0
PRODID:-//MarkedsPartner AS//Umbraco CMS//NO
TIMEZONE-ID:Europe/Oslo
X-WR-TIMEZONE:Europe/Oslo


BEGIN:VEVENT
UID:4c88be33dfd74ffcb1286747c5c4066e
URL:https://stavangernaering-2023.azurewebsites.net/en/events/archive/hike-at-rennesoey_april-2023-1/
ORGANIZER;CN=Ola Normann:MAILTO:ola.normann@markedspartner.no
DTSTAMP:20230422T090000Z
DTSTART:20230422T090000Z
DTEND:20230422T150000Z
LAST-MODIFIED:20230423T164312Z
SUMMARY:Hiking at beautiful Rennesøy
DESCRIPTION:Ready for a hike to Pilå or Rennesøyhodnet? We can promise a beautiful view and very good company!
X-ALT-DESC:Ready for a hike to Pil&#229; or Rennes&#248;yhodnet? We can promise a beautiful view and very good company!
LOCATION:&#216;sthusvik, Rennes&#248;y
END:VEVENT


END:VCALENDAR



