
BEGIN:VCALENDAR
VERSION:2.0
PRODID:-//MarkedsPartner AS//Umbraco CMS//NO
TIMEZONE-ID:Europe/Oslo
X-WR-TIMEZONE:Europe/Oslo


BEGIN:VEVENT
UID:f2f15957ecb24cf99381f7b737287d9a
URL:https://stavangernaering-2023.azurewebsites.net/en/events/archive/hike-at-rennesoey_231021/
ORGANIZER;CN=Ola Normann:MAILTO:ola.normann@markedspartner.no
DTSTAMP:20211023T090000Z
DTSTART:20211023T090000Z
DTEND:20211023T140000Z
LAST-MODIFIED:20211029T084054Z
SUMMARY:Hike to beautiful Rennesøy
DESCRIPTION:Ready for a hike to Pilå or Rennesøyhodnet? Both hikes have beautiful view.
X-ALT-DESC:Ready for a hike to Pil&#229; or Rennes&#248;yhodnet? Both hikes have beautiful view.
LOCATION:Rennes&#248;y
END:VEVENT


END:VCALENDAR



