
BEGIN:VCALENDAR
VERSION:2.0
PRODID:-//MarkedsPartner AS//Umbraco CMS//NO
TIMEZONE-ID:Europe/Oslo
X-WR-TIMEZONE:Europe/Oslo


BEGIN:VEVENT
UID:f0a0b0d5ec2c41468419641606c5435d
URL:https://stavangernaering-2023.azurewebsites.net/en/events/archive/highwind2025/
ORGANIZER;CN=Ola Normann:MAILTO:ola.normann@markedspartner.no
DTSTAMP:20250304T080000Z
DTSTART:20250304T080000Z
DTEND:20250304T150000Z
LAST-MODIFIED:20250306T142231Z
SUMMARY:HighWind 2025
DESCRIPTION:Welcome to the High Wind Conference - a leading meeting place for industry, decision-makers, and other players in a full value chain for offshore wind in the North Sea. The conference creates a unique stage where you can explore business opportunities, connect with decision-makers and create collaborations between governments, businesses, and clusters.
X-ALT-DESC:Welcome to the High Wind Conference - a leading meeting place for industry, decision-makers, and other players in a full value chain for offshore wind in the North Sea. The conference creates a unique stage where you can explore business opportunities, connect with decision-makers and create collaborations between governments, businesses, and clusters.
LOCATION:Clarion Energy
END:VEVENT


END:VCALENDAR



