
BEGIN:VCALENDAR
VERSION:2.0
PRODID:-//MarkedsPartner AS//Umbraco CMS//NO
TIMEZONE-ID:Europe/Oslo
X-WR-TIMEZONE:Europe/Oslo


BEGIN:VEVENT
UID:061853ecdeba4347afddc13455b7967d
URL:https://stavangernaering-2023.azurewebsites.net/en/events/archive/highwind2024-excursion-day/
ORGANIZER;CN=Ola Normann:MAILTO:ola.normann@markedspartner.no
DTSTAMP:20240313T073000Z
DTSTART:20240313T073000Z
DTEND:20240313T143000Z
LAST-MODIFIED:20240318T070522Z
SUMMARY:HighWind2024:  Egersund Energy Hub
DESCRIPTION:Training, Education and Workforce Development for Offshore Wind. Please join us for this excursion day to Egersund Energy Hub, Langholmveien 6, 4373 Egersund.  We're going by train from Stavanger to Egersund,  through the beautiful landscape on Jæren.
X-ALT-DESC:Training, Education and Workforce Development for Offshore Wind. Please join us for this excursion day to Egersund Energy Hub, Langholmveien 6, 4373 Egersund.  We&#39;re going by train from Stavanger to Egersund,  through the beautiful landscape on J&#230;ren.
LOCATION:Egersund Energy Hub
END:VEVENT


END:VCALENDAR



