
BEGIN:VCALENDAR
VERSION:2.0
PRODID:-//MarkedsPartner AS//Umbraco CMS//NO
TIMEZONE-ID:Europe/Oslo
X-WR-TIMEZONE:Europe/Oslo


BEGIN:VEVENT
UID:37a6161e5e5b4b8bb9a5a02309408366
URL:https://stavangernaering-2023.azurewebsites.net/en/events/archive/high-wind_november-2020/
ORGANIZER;CN=Ola Normann:MAILTO:ola.normann@markedspartner.no
DTSTAMP:20201104T080000Z
DTSTART:20201104T080000Z
DTEND:20201104T150000Z
LAST-MODIFIED:20201110T120950Z
SUMMARY:HIGH WIND 2020
DESCRIPTION:What is reality, are we willing and capable to cap the potential of offshore wind? The backdrop is the recently released wind Europe report: our energy our future.
X-ALT-DESC:What is reality, are we willing and capable to cap the potential of offshore wind? The backdrop is the recently released wind Europe report: our energy our future.
LOCATION:Radisson Blu Atlantic Hotel, Stavanger
END:VEVENT


END:VCALENDAR



