
BEGIN:VCALENDAR
VERSION:2.0
PRODID:-//MarkedsPartner AS//Umbraco CMS//NO
TIMEZONE-ID:Europe/Oslo
X-WR-TIMEZONE:Europe/Oslo


BEGIN:VEVENT
UID:6ea38dcfa5414d8e8d2b197d5660b99a
URL:https://stavangernaering-2023.azurewebsites.net/en/events/archive/high-wind-2024-conference/
ORGANIZER;CN=Ola Normann:MAILTO:ola.normann@markedspartner.no
DTSTAMP:20240312T080000Z
DTSTART:20240312T080000Z
DTEND:20240312T150000Z
LAST-MODIFIED:20240318T070503Z
SUMMARY:High Wind 2024
DESCRIPTION:Stay informed about the latest developments in the offshore wind market at High Wind 2024.
X-ALT-DESC:Stay informed about the latest developments in the offshore wind market at High Wind 2024.
LOCATION:Clarion Energy, Stavanger
END:VEVENT


END:VCALENDAR



