
BEGIN:VCALENDAR
VERSION:2.0
PRODID:-//MarkedsPartner AS//Umbraco CMS//NO
TIMEZONE-ID:Europe/Oslo
X-WR-TIMEZONE:Europe/Oslo


BEGIN:VEVENT
UID:fc9baf289efb4623a2fa5fec6dbd01b3
URL:https://stavangernaering-2023.azurewebsites.net/en/events/archive/hidden-gems_march-2022/
ORGANIZER;CN=Ola Normann:MAILTO:ola.normann@markedspartner.no
DTSTAMP:20220329T163000Z
DTSTART:20220329T163000Z
DTEND:20220329T181000Z
LAST-MODIFIED:20220323T212136Z
SUMMARY:Hidden gems by Stokkavannet
DESCRIPTION:Nothing is like an evening stroll!  The weather is nice and evenings bright. Come and join us for a hike and games close to Stokkavannet.
X-ALT-DESC:Nothing is like an evening stroll!  The weather is nice and evenings bright. Come and join us for a hike and games close to Stokkavannet.
LOCATION:Stokka, Parking lot  and bus stop at Gustav Vigeland vei 7, 4023 Stavanger
END:VEVENT


END:VCALENDAR



