
BEGIN:VCALENDAR
VERSION:2.0
PRODID:-//MarkedsPartner AS//Umbraco CMS//NO
TIMEZONE-ID:Europe/Oslo
X-WR-TIMEZONE:Europe/Oslo


BEGIN:VEVENT
UID:0125526108634fbeb78dc97332d50b47
URL:https://stavangernaering-2023.azurewebsites.net/en/events/archive/hidden-gems_april-2022/
ORGANIZER;CN=Ola Normann:MAILTO:ola.normann@markedspartner.no
DTSTAMP:20220406T163000Z
DTSTART:20220406T163000Z
DTEND:20220406T181000Z
LAST-MODIFIED:20220408T123409Z
SUMMARY:Hidden gems at Stokkavannet
DESCRIPTION:The weather is nice and evenings bright. Come and join us for a hike and gems close to Stokkavannet.
X-ALT-DESC:The weather is nice and evenings bright. Come and join us for a hike and gems close to Stokkavannet.
LOCATION:Stokka, Parking lot  and bus stop at Gustav Vigeland vei 7, 4023 Stavanger
END:VEVENT


END:VCALENDAR



