
BEGIN:VCALENDAR
VERSION:2.0
PRODID:-//MarkedsPartner AS//Umbraco CMS//NO
TIMEZONE-ID:Europe/Oslo
X-WR-TIMEZONE:Europe/Oslo


BEGIN:VEVENT
UID:f0dca6fec3df4fd396f42a82ad5686ba
URL:https://stavangernaering-2023.azurewebsites.net/en/events/archive/happy-new-year_-120122/
ORGANIZER;CN=Ola Normann:MAILTO:ola.normann@markedspartner.no
DTSTAMP:20220112T180000Z
DTSTART:20220112T180000Z
DTEND:20220112T191000Z
LAST-MODIFIED:20220112T193320Z
SUMMARY:Happy New Year with the mayor
DESCRIPTION:DIGITAL CONFERENCE: What's on in the Stavanger-region for the upcoming year?
X-ALT-DESC:DIGITAL CONFERENCE: What&#39;s on in the Stavanger-region for the upcoming year?
LOCATION:Digital conference
END:VEVENT


END:VCALENDAR



