
BEGIN:VCALENDAR
VERSION:2.0
PRODID:-//MarkedsPartner AS//Umbraco CMS//NO
TIMEZONE-ID:Europe/Oslo
X-WR-TIMEZONE:Europe/Oslo


BEGIN:VEVENT
UID:6e37bd03476b4bf79466cf92768a55e3
URL:https://stavangernaering-2023.azurewebsites.net/en/events/archive/hackaton/
ORGANIZER;CN=Ola Normann:MAILTO:ola.normann@markedspartner.no
DTSTAMP:20220318T140000Z
DTSTART:20220318T140000Z
DTEND:20220320T180000Z
LAST-MODIFIED:20220323T120712Z
SUMMARY:Open Data Hackathon
DESCRIPTION:It’s all about problem solving! The University of Stavanger invites you to their data hackathon.
X-ALT-DESC:It’s all about problem solving! The University of Stavanger invites you to their data hackathon.
LOCATION:L&#248;kkeveien 111, 4007 Stavanger
END:VEVENT


END:VCALENDAR



