
BEGIN:VCALENDAR
VERSION:2.0
PRODID:-//MarkedsPartner AS//Umbraco CMS//NO
TIMEZONE-ID:Europe/Oslo
X-WR-TIMEZONE:Europe/Oslo


BEGIN:VEVENT
UID:3a4ca61916934be78ac730108e785c35
URL:https://stavangernaering-2023.azurewebsites.net/en/events/archive/h2-conference_2023/
ORGANIZER;CN=Ola Normann:MAILTO:ola.normann@markedspartner.no
DTSTAMP:20230907T063000Z
DTSTART:20230907T063000Z
DTEND:20230907T170000Z
LAST-MODIFIED:20230919T123428Z
SUMMARY:H2 Conference Norway  Sep 7th (8th) 
DESCRIPTION:The international conference gathering leading voices and decision makers discussing the goals, strategies and framework needed for the development of hydrogen value chains.
X-ALT-DESC:The international conference gathering leading voices and decision makers discussing the goals, strategies and framework needed for the development of hydrogen value chains.
LOCATION:Clarion Hotel Stavanger
END:VEVENT


END:VCALENDAR



