
BEGIN:VCALENDAR
VERSION:2.0
PRODID:-//MarkedsPartner AS//Umbraco CMS//NO
TIMEZONE-ID:Europe/Oslo
X-WR-TIMEZONE:Europe/Oslo


BEGIN:VEVENT
UID:c7a81b2b0f7148c8b0152798a0b368b2
URL:https://stavangernaering-2023.azurewebsites.net/en/events/archive/guided-tour_okt24/
ORGANIZER;CN=Ola Normann:MAILTO:ola.normann@markedspartner.no
DTSTAMP:20241017T073000Z
DTSTART:20241017T073000Z
DTEND:20241017T090000Z
LAST-MODIFIED:20241017T111859Z
SUMMARY:Get to know Stavanger!
DESCRIPTION:A guided walk is a marvelous way to discover Stavanger's many hidden gems. Stavanger has so many beautiful highlights and best discovered on foot.
X-ALT-DESC:A guided walk is a marvelous way to discover Stavanger&#39;s many hidden gems. Stavanger has so many beautiful highlights and best discovered on foot.
LOCATION:Rosenkildehuset, Strandkaien 6, 4005 Stavanger
END:VEVENT


END:VCALENDAR



