
BEGIN:VCALENDAR
VERSION:2.0
PRODID:-//MarkedsPartner AS//Umbraco CMS//NO
TIMEZONE-ID:Europe/Oslo
X-WR-TIMEZONE:Europe/Oslo


BEGIN:VEVENT
UID:68763058e0894d7d88036b0a5f65921f
URL:https://stavangernaering-2023.azurewebsites.net/en/events/archive/guided-tour-stavanger-east_june2023/
ORGANIZER;CN=Ola Normann:MAILTO:ola.normann@markedspartner.no
DTSTAMP:20230614T080000Z
DTSTART:20230614T080000Z
DTEND:20230614T094500Z
LAST-MODIFIED:20230614T130230Z
SUMMARY:Guided City Tour: Østre bydel edition 
DESCRIPTION:Here is your chance to get acquainted with the city of Stavanger and meet other newcomers!
X-ALT-DESC:Here is your chance to get acquainted with the city of Stavanger and meet other newcomers!
LOCATION:St. Petri Kirken, Nytorget 2, 4013 Stavanger
END:VEVENT


END:VCALENDAR



