
BEGIN:VCALENDAR
VERSION:2.0
PRODID:-//MarkedsPartner AS//Umbraco CMS//NO
TIMEZONE-ID:Europe/Oslo
X-WR-TIMEZONE:Europe/Oslo


BEGIN:VEVENT
UID:9262a2d3bfa6437fbc4fe41bf12e6ce3
URL:https://stavangernaering-2023.azurewebsites.net/en/events/archive/guided-city-tour_august/
ORGANIZER;CN=Ola Normann:MAILTO:ola.normann@markedspartner.no
DTSTAMP:20220804T080000Z
DTSTART:20220804T080000Z
DTEND:20220804T093000Z
LAST-MODIFIED:20220807T175819Z
SUMMARY:Morning session:  Guided City Tour
DESCRIPTION:Here is your chance to get acquainted with the city of Stavanger and meet newcomers in our region!
X-ALT-DESC:Here is your chance to get acquainted with the city of Stavanger and meet newcomers in our region!
LOCATION:Rosenkildehuset, Strandkaien 6, 4005 Stavanger
END:VEVENT


END:VCALENDAR



