
BEGIN:VCALENDAR
VERSION:2.0
PRODID:-//MarkedsPartner AS//Umbraco CMS//NO
TIMEZONE-ID:Europe/Oslo
X-WR-TIMEZONE:Europe/Oslo


BEGIN:VEVENT
UID:550d629bdf7245fcb6b723f6a3f16d03
URL:https://stavangernaering-2023.azurewebsites.net/en/events/archive/guided-city-tour-stavanger_may2023/
ORGANIZER;CN=Ola Normann:MAILTO:ola.normann@markedspartner.no
DTSTAMP:20230509T080000Z
DTSTART:20230509T080000Z
DTEND:20230509T093000Z
LAST-MODIFIED:20230509T124055Z
SUMMARY:Guided City Tour Stavanger
DESCRIPTION:Here is your chance to get acquainted with the city of Stavanger and meet newcomers in our region!
X-ALT-DESC:Here is your chance to get acquainted with the city of Stavanger and meet newcomers in our region!
LOCATION:Rosenkildehuset, Strandkaien 6, 4005 Stavanger
END:VEVENT


END:VCALENDAR



