
BEGIN:VCALENDAR
VERSION:2.0
PRODID:-//MarkedsPartner AS//Umbraco CMS//NO
TIMEZONE-ID:Europe/Oslo
X-WR-TIMEZONE:Europe/Oslo


BEGIN:VEVENT
UID:80b68dfcb3824a5c930896e7a94aac8b
URL:https://stavangernaering-2023.azurewebsites.net/en/events/archive/guided-city-tour-stavanger_may2023-1/
ORGANIZER;CN=Ola Normann:MAILTO:ola.normann@markedspartner.no
DTSTAMP:20240813T080000Z
DTSTART:20240813T080000Z
DTEND:20240813T093000Z
LAST-MODIFIED:20240819T055639Z
SUMMARY:Guided City Tour Stavanger
DESCRIPTION:Here is your chance to get acquainted with the city of Stavanger and meet other newcomers to the region!
X-ALT-DESC:Here is your chance to get acquainted with the city of Stavanger and meet other newcomers to the region!
LOCATION:Rosenkildehuset, Strandkaien 6, 4005 Stavanger
END:VEVENT


END:VCALENDAR



