
BEGIN:VCALENDAR
VERSION:2.0
PRODID:-//MarkedsPartner AS//Umbraco CMS//NO
TIMEZONE-ID:Europe/Oslo
X-WR-TIMEZONE:Europe/Oslo


BEGIN:VEVENT
UID:99c3d2d1827c42e8a5fb8b1a7945e902
URL:https://stavangernaering-2023.azurewebsites.net/en/events/archive/guided-city-tour-sandnes_june2023/
ORGANIZER;CN=Ola Normann:MAILTO:ola.normann@markedspartner.no
DTSTAMP:20230612T080000Z
DTSTART:20230612T080000Z
DTEND:20230612T093000Z
LAST-MODIFIED:20230613T060854Z
SUMMARY:Guided City Tour Sandnes
DESCRIPTION:Here is your chance to get acquainted with the city of Sandnes and meet newcomers in our region!
X-ALT-DESC:Here is your chance to get acquainted with the city of Sandnes and meet newcomers in our region!
LOCATION:R&#229;dhuset, R&#229;dhusgaten 1
END:VEVENT


END:VCALENDAR



