
BEGIN:VCALENDAR
VERSION:2.0
PRODID:-//MarkedsPartner AS//Umbraco CMS//NO
TIMEZONE-ID:Europe/Oslo
X-WR-TIMEZONE:Europe/Oslo


BEGIN:VEVENT
UID:850756edb08b4c84aabbaaf798c42fe3
URL:https://stavangernaering-2023.azurewebsites.net/en/events/archive/grocery-shopping-adventure_march-24/
ORGANIZER;CN=Ola Normann:MAILTO:ola.normann@markedspartner.no
DTSTAMP:20240305T090000Z
DTSTART:20240305T090000Z
DTEND:20240305T100000Z
LAST-MODIFIED:20240307T140141Z
SUMMARY:Grocery shopping Adventure!
DESCRIPTION:Grocery shopping in a new country is like entering a culinary maze – suddenly, finding your favourite snacks becomes a quest of epic proportions.
X-ALT-DESC:Grocery shopping in a new country is like entering a culinary maze – suddenly, finding your favourite snacks becomes a quest of epic proportions.
LOCATION:Mega Coop Madla
END:VEVENT


END:VCALENDAR



