
BEGIN:VCALENDAR
VERSION:2.0
PRODID:-//MarkedsPartner AS//Umbraco CMS//NO
TIMEZONE-ID:Europe/Oslo
X-WR-TIMEZONE:Europe/Oslo


BEGIN:VEVENT
UID:32b5dee5e6a84ee2af404f2b7cfa35dd
URL:https://stavangernaering-2023.azurewebsites.net/en/events/archive/grocery-shopping-adventure-_-sept-24/
ORGANIZER;CN=Ola Normann:MAILTO:ola.normann@markedspartner.no
DTSTAMP:20240910T080000Z
DTSTART:20240910T080000Z
DTEND:20240910T090000Z
LAST-MODIFIED:20240910T165334Z
SUMMARY:Grocery shopping Adventure!
DESCRIPTION:Grocery shopping in a new country is like entering a culinary maze – suddenly, finding your favourite snacks becomes a quest of epic proportions.
X-ALT-DESC:Grocery shopping in a new country is like entering a culinary maze – suddenly, finding your favourite snacks becomes a quest of epic proportions.
LOCATION:Mega Coop Madla
END:VEVENT


END:VCALENDAR



