
BEGIN:VCALENDAR
VERSION:2.0
PRODID:-//MarkedsPartner AS//Umbraco CMS//NO
TIMEZONE-ID:Europe/Oslo
X-WR-TIMEZONE:Europe/Oslo


BEGIN:VEVENT
UID:9247636e887e46508102b036fd8954ae
URL:https://stavangernaering-2023.azurewebsites.net/en/events/archive/grocery-shopping-adventure-_-april-24/
ORGANIZER;CN=Ola Normann:MAILTO:ola.normann@markedspartner.no
DTSTAMP:20240507T080000Z
DTSTART:20240507T080000Z
DTEND:20240507T090000Z
LAST-MODIFIED:20240514T115315Z
SUMMARY:Grocery shopping Adventure!
DESCRIPTION:Grocery shopping in a new country is like maze – suddenly, finding your favourite snacks becomes a quest of epic proportions.
X-ALT-DESC:Grocery shopping in a new country is like maze – suddenly, finding your favourite snacks becomes a quest of epic proportions.
LOCATION:Mega Coop Madla
END:VEVENT


END:VCALENDAR



