
BEGIN:VCALENDAR
VERSION:2.0
PRODID:-//MarkedsPartner AS//Umbraco CMS//NO
TIMEZONE-ID:Europe/Oslo
X-WR-TIMEZONE:Europe/Oslo


BEGIN:VEVENT
UID:2ca200b349a5456e8254ac06025826e9
URL:https://stavangernaering-2023.azurewebsites.net/en/events/archive/gramstad_jun25/
ORGANIZER;CN=Ola Normann:MAILTO:ola.normann@markedspartner.no
DTSTAMP:20250617T151500Z
DTSTART:20250617T151500Z
DTEND:20250617T201500Z
LAST-MODIFIED:20250620T102838Z
SUMMARY:Hike from Gramstadtunet
DESCRIPTION:Join us for an afternoon hike at beautiful Gramstad area.
X-ALT-DESC:Join us for an afternoon hike at beautiful Gramstad area.
LOCATION:Gramstadtunet,  Sandnes
END:VEVENT


END:VCALENDAR



